BEGIN:VCALENDAR
VERSION:2.0
PRODID:-//Tukios.com/
BEGIN:VEVENT
UID:d0481f76-e8fd-4ceb-a6b5-ba0c13503cf9@www.farleyestesdowdle.com
DTSTAMP:20260423T084653Z
DTSTART:20260327T170000Z
DTEND:20260327T180000Z
SUMMARY:Memorial Service
DESCRIPTION:
URL:https://www.farleyestesdowdle.com/obituaries/barbara-hale
LOCATION:Peace Community Christian Church 134 N. Main St.  Climax MI 
	49034
GEO:42.2397025;-85.3355337
END:VEVENT
END:VCALENDAR