BEGIN:VCALENDAR
VERSION:2.0
PRODID:-//Tukios.com/
BEGIN:VEVENT
UID:3b88e4e6-4d10-4e6d-b166-b2bc4aa93491@www.farleyestesdowdle.com
DTSTAMP:20260421T103112Z
DTSTART:20260516T150000Z
DTEND:20260516T170000Z
SUMMARY:Visitation
DESCRIPTION:
URL:https://www.farleyestesdowdle.com/obituaries/charles-perry
LOCATION: 105 Capital Ave NE  Battle Creek MI 49017
GEO:42.321736;-85.1791619
END:VEVENT
END:VCALENDAR