BEGIN:VCALENDAR
VERSION:2.0
PRODID:-//Tukios.com/
BEGIN:VEVENT
UID:226d09fb-7e36-45c3-b751-d1ac697516b4@www.farleyestesdowdle.com
DTSTAMP:20260420T083315Z
DTSTART:20260307T183000Z
DTEND:20260307T193000Z
SUMMARY:Mass of Christian Burial
DESCRIPTION:
URL:https://www.farleyestesdowdle.com/obituaries/corey-brown
LOCATION: 92 Capital Ave NE  Battle Creek MI 49017
GEO:42.3208289;-85.1785576
END:VEVENT
END:VCALENDAR