BEGIN:VCALENDAR
VERSION:2.0
PRODID:-//Tukios.com/
BEGIN:VEVENT
UID:4b821876-0cd8-4186-9034-5ff41d94922a@www.farleyestesdowdle.com
DTSTAMP:20260423T085339Z
DTSTART:20260423T220000Z
DTEND:20260424T000000Z
SUMMARY:Visitation
DESCRIPTION:
URL:https://www.farleyestesdowdle.com/obituaries/david-tipton
LOCATION: 105 Capital Ave NE  Battle Creek MI 49017
GEO:42.321736;-85.1791619
END:VEVENT
END:VCALENDAR