BEGIN:VCALENDAR
VERSION:2.0
PRODID:-//Tukios.com/
BEGIN:VEVENT
UID:9f043aa9-33fe-470d-8aea-2dc876c65a3b@www.farleyestesdowdle.com
DTSTAMP:20260423T085412Z
DTSTART:20260423T113000Z
DTEND:20260423T123000Z
SUMMARY:Rosary
DESCRIPTION:
URL:https://www.farleyestesdowdle.com/obituaries/david-tipton
LOCATION: 105 Capital Ave NE  Battle Creek MI 49017
GEO:42.321736;-85.1791619
END:VEVENT
END:VCALENDAR