BEGIN:VCALENDAR
VERSION:2.0
PRODID:-//Tukios.com/
BEGIN:VEVENT
UID:dfa655dd-5aff-41b2-8e6c-331614d98cf5@www.farleyestesdowdle.com
DTSTAMP:20260421T090810Z
DTSTART:20251118T213000Z
DTEND:20251118T223000Z
SUMMARY:Rosary
DESCRIPTION:
URL:https://www.farleyestesdowdle.com/obituaries/dorothy-kellam
LOCATION: 9170 East D Avenue  Richland MI 49083
GEO:42.3758555;-85.4517653
END:VEVENT
END:VCALENDAR