BEGIN:VCALENDAR
VERSION:2.0
PRODID:-//Tukios.com/
BEGIN:VEVENT
UID:f554fa3f-4223-4ace-a319-1a83dd51e0cc@www.farleyestesdowdle.com
DTSTAMP:20260422T020846Z
DTSTART:20260501T180000Z
DTEND:20260501T200000Z
SUMMARY:Memorial Service
DESCRIPTION:
URL:https://www.farleyestesdowdle.com/obituaries/jerilyn-cummings
LOCATION: 73 Winter Street  Battle Creek MI 49015
GEO:42.3071435;-85.2028897
END:VEVENT
END:VCALENDAR