BEGIN:VCALENDAR
VERSION:2.0
PRODID:-//Tukios.com/
BEGIN:VEVENT
UID:6c64f2c6-62ca-4428-aaf8-fd6b8188b6cc@www.farleyestesdowdle.com
DTSTAMP:20260423T184029Z
DTSTART:20260517T170000Z
DTEND:20260517T200000Z
SUMMARY:Celebration of Life
DESCRIPTION:
URL:https://www.farleyestesdowdle.com/obituaries/michael-wood
LOCATION:Family Home 19961 McAllister Road  Battle Creek MI 49014
GEO:42.3617199;-85.1234562
END:VEVENT
END:VCALENDAR